BEGIN:VCALENDAR
VERSION:2.0
PRODID:-//https://seminaragency.ch///NONSGML kigkonsult.se iCalcreator 2.10.15//
METHOD:PUBLISH
BEGIN:VEVENT
UID:20260423T222808UTC-9781X43vmB@https://seminaragency.ch/
DTSTAMP:20260423T222808Z
DESCRIPTION:                                  Selbstmanagement (remote) \nI
 n einer zunehmend komplexen und dynamischen Arbeitswelt ist effektives Sel
 bstmanagement eine Schlüsselkompetenz für beruflichen und persönlichen Erf
 olg. Dieses Seminar vermittelt  praxisnahe Methoden und Werkzeuge\, um die
  eigenen Aufgaben\, Ziele und Ressourcen bewusst zu steuern und nachhaltig
  leistungsfähig zu bleiben. \n\nDie Teilnehmenden setzen sich mit ihren in
 dividuellen Arbeits- und Verhaltensmustern auseinander. Der Schwerpunkt li
 egt auf dem Umgang mit Stress/Druck\, inneren Antreibern und äusseren Anfo
 rderungen. Strategien zur Stärkung der Selbstmotivation\, Konzentrationsfä
 higkeit und Widerstandskraft helfen dabei\, auch in herausfordernden Situa
 tionen handlungsfähig zu bleiben. Ziel des Seminars ist es\, die persönlic
 he Selbstorganisation zu verbessern\, die Eigenverantwortung zu stärken un
 d eine gesunde Balance zwischen Leistung und Wohlbefinden zu fördern. \n\n
 Kosten: Fr. 179.00\n\nReferentin: Myriam Spring / HR - Leiterin und Inhabe
 rin Spring HR Company\, Betriebsökonomin und Wirtschaftspsychologin MBA\n
 \nAnmeldung: über seminaragency at icloud.com / Melden Sie sich noch heute
  an und sichern Sie sich Ihren Platz! Ihr Weg zum Erfolg beginnt jetzt - w
 ir freuen uns auf Ihre Teilnahme!\n https://seminaragency.ch/termine/event
 /3-selbstmanagement
DTSTART:20260311T183000Z
DTEND:20260311T210000Z
LOCATION:zoom ()
SUMMARY:Selbstmanagement
URL:https://seminaragency.ch/termine/event/3-selbstmanagement
END:VEVENT
END:VCALENDAR
