BEGIN:VCALENDAR
VERSION:2.0
PRODID:-//https://seminaragency.ch///NONSGML kigkonsult.se iCalcreator 2.10.15//
METHOD:PUBLISH
BEGIN:VEVENT
UID:20260423T212402UTC-97018uUgco@https://seminaragency.ch/
DTSTAMP:20260423T212402Z
DESCRIPTION:Gestalte deine finanzielle Unabhängigkeit! In unserem Seminar '
 Dein Mann ist nicht deine Vorsorge' lernst du\, wie du deine eigene finanz
 ielle Zukunft aktiv gestaltest. Erfahre\, warum es wichtig ist\, unabhängi
 g von Partnerschaften für deine finanzielle Sicherheit zu sorgen und erlan
 ge das Wissen und die Werkzeuge\, um deine finanziellen Ziele eigenständig
  zu erreichen. Befreie dich von Abhängigkeiten und übernimm die Kontrolle 
 über deine finanzielle Vorsorge! Vor allem bei Scheidungen steht die Frau 
 vor grossen Herausforderungen. Oft erwachen Frauen aus dem Dornröschenschl
 af wenn die Beziehung in die Brüche geht und eine Scheidung ansteht. Viele
  Fragen kommen auf\, mit denen man sich nur selten im Vorfeld beschäftigt 
 hatte. Damit zumindest finanziell keine Bruchlandung erfolgt\, lohnt es si
 ch in diesem Seminar alle nötigen worst-case und best-case Szenarien berei
 ts am Anfang zu erkennen und entsprechende Tools anzuwenden. \n\nReferenti
 n: Myriam Spring ist dipl. Betriebsökonomin und hat einen Master in Wirtsc
 haftspsychologie. Als ursprüngliche Bankerin kennt sie sich in den Möglich
 keiten der verschiedenen Finanzinstrumente aus und ist spezialisiert auf i
 ndividuelle Budgetplanung\, vor allem in Scheidungssituationen.\n\nKurskos
 ten:  CHF 189.00\n\nAnmeldungen: bitte über Email: seminaragency at icloud
 .com / Sichere dir noch heute deinen Platz (limitierte Teilnehmerzahl). Di
 eses Seminar hilft dir\, Stolpersteine schon im voraus zu erkennen und bef
 ähigt dich\, zu agieren anstatt zu reagieren. Wir freuen uns auf deine Tei
 lnahme! https://seminaragency.ch/termine/event/207-dein-mann-ist-nicht-dei
 ne-vorsorge
DTSTART:20260429T173000Z
DTEND:20260429T203000Z
LOCATION:zoom ()
SUMMARY:Dein Mann ist NICHT deine Vorsorge!
URL:https://seminaragency.ch/termine/event/207-dein-mann-ist-nicht-deine-vo
 rsorge
END:VEVENT
END:VCALENDAR
