BEGIN:VCALENDAR
VERSION:2.0
PRODID:-//https://seminaragency.ch///NONSGML kigkonsult.se iCalcreator 2.10.15//
METHOD:PUBLISH
BEGIN:VEVENT
UID:20260424T000031UTC-7402HhzT3l@https://seminaragency.ch/
DTSTAMP:20260424T000031Z
DESCRIPTION:          In diesem intensiven Seminar sind folgende Inhalte ze
 ntral:\n\n- Grundlagen der Finanzplanung: Verständnis von Einnahmen\, Ausg
 aben\, Vermögen und Verbindlichkeiten\n- Budgetplanung leicht gemacht: Ers
 tellung eines individuellen Haushaltsbudgets\, das möglichst zu Ihrem Lebe
 nsstil passt\n- Sparen und investieren: Strategien zur Rücklagenbildung un
 d Möglichkeiten\, Ihr Geld für sich arbeiten zu lassen\n- Schuldenmanageme
 nt: Effektive Ansätze\, um bestehende Verbindlichkeiten abzubauen und künf
 tig zu vermeiden\n- Langfristige Ziele setzen: Finanzielle Planung für grö
 ssere Anschaffungen\, Altersvorsorge und unerwartete Ereignisse\n- Praktis
 che Tools.: Einführung in digitale Hilfsmittel zu Budget- und Finanzverwal
 tung\n\nZielgruppe: \nDieses Seminar richtet sich an alle\, die ihre priva
 ten Finanzen besser verstehen und nachhaltig verwalten möchten - unabhängi
 g davon\, ob Sie Einsteiger sind oder bereits Erfahrungen mit Finanzplanun
 g haben. \n\nReferentin: Myriam Spring\, Betriebswirtschafterin HF und ehe
 malige Bankerin\n\nKosten: mit Unterlagen und Pausenerfrischung Fr. 350.00
 \n\nAnmeldung: schreiben Sie eine E-Mail an seminaragency at icloud.com / 
 Sichern Sie sich noch heute Ihren Platz! \n\nWerden Sie zum Manager Ihrer 
 Finanzen - wir unterstützen Sie auf Ihrem Weg!\n https://seminaragency.ch/
 termine/event/205-finanz-und-budgetplanung-fuer-private-ihr-schluessel-zu-
 finanzieller-sicherheit
DTSTART:20251017T100000Z
DTEND:20251017T170000Z
LOCATION:Hotel Sedartis (Bahnhofstrasse 15\, 8800 Thalwil\, Schweiz)
SUMMARY:Finanz- und Budgetplanung für Private - Ihr Schlüssel zu finanziell
 er Sicherheit
URL:https://seminaragency.ch/termine/event/205-finanz-und-budgetplanung-fue
 r-private-ihr-schluessel-zu-finanzieller-sicherheit
END:VEVENT
END:VCALENDAR
