BEGIN:VCALENDAR
VERSION:2.0
PRODID:-//https://seminaragency.ch///NONSGML kigkonsult.se iCalcreator 2.10.15//
METHOD:PUBLISH
BEGIN:VEVENT
UID:20260423T223043UTC-94299j9GZ9@https://seminaragency.ch/
DTSTAMP:20260423T223043Z
DESCRIPTION:    «Ziele souverän erreichen» – das bedeutet sich zuerst stark
 e Ziele setzen. Ein Ziel ist eine Vision mit Datum. Oft wissen wir\, dass 
 wir einen Weg verlassen wollen\, aber die neue Richtung und Perspektive fe
 hlen. Dies ist der springende Punkt! Ziele zu erreichen ist erlernbar wie 
 alles andere auch. \nDoch so oft hatten Sie sich ein Ziel vorgenommen\, se
 i dies beruflich oder privat und sind dann doch wieder gescheitert? Was wa
 r der Grund? War es das Umfeld\, das Sie einmal mehr von Ihrem Vorhaben ab
 gebracht hat? Oder hatte Ihr «Warum und Wozu» zu wenig Kraft und Ausdauer?
  Damit Ziele souverän erreicht werden können benötigen Sie das Rüstzeug mi
 t Berücksichtigung möglicher Hindernisse. Es ist nie zu spät sich neue Zie
 le zu setzen und diese auch zu erreichen. Aber so mancher ist beim Weg dor
 thin gescheitert\, weil die Willenskraft gefehlt hat oder die persönlichen
  Ressourcen nicht genügten. In diesem Kurs finden wir heraus\, welches ums
 etzbare und für Sie wichtige Ziele sind. Danach testen wir die nötige Durc
 hhaltekraft beim Erreichen Ihres gesetzten Ziels. \nIn diesem Kurs arbeite
 n wir so\, dass möglichst viel an Selbstreflexion stattfinden kann und all
 fällige Stolpersteine schon im voraus erkannt werden. Dann liegt es wieder
 um an Ihnen\, genau hinzuschauen und die Lösung (die immer bei Ihnen schon
  vorhanden ist) zu definieren. Sie werden überrascht sein\, welche kreativ
 en Ideen auftauchen\, um ihr Ziel souverän zu erreichen. \nAuf diese wertv
 ollen Informationen können Sie bei der Umsetzung und	möglichen Schwierigke
 iten im Alltag zurückgreifen. \n          \nKosten: Fr. 179.00 \nIhr Mehrw
 ert: \n-Zeit sinnvoll nutzen\, um dahin zu kommen wo Sie hinmöchten\n-Zeit
  -und Zieletappen definieren\, damit Sie Ihre Ziele erreichen\n-Tools\, Ti
 pps und wichtige Informationen\, um dranzubleiben\n-Selbstmanagement\, Dis
 ziplin\n\nAnmeldung: schreiben Sie eine Email an seminaragency at icloud.c
 om /Melden Sie sich jetzt an und sichern Sie sich Ihren Platz! https://sem
 inaragency.ch/termine/event/204-lebensziele-erreichen
DTSTART:20260224T190000Z
DTEND:20260224T213000Z
LOCATION:zoom ()
SUMMARY:Lebensziele erreichen
URL:https://seminaragency.ch/termine/event/204-lebensziele-erreichen
END:VEVENT
END:VCALENDAR
