BEGIN:VCALENDAR
VERSION:2.0
PRODID:-//https://seminaragency.ch///NONSGML kigkonsult.se iCalcreator 2.10.15//
METHOD:PUBLISH
BEGIN:VEVENT
UID:20260424T053739UTC-9404E8kvxE@https://seminaragency.ch/
DTSTAMP:20260424T053739Z
DESCRIPTION:In individuellen Führungskontexten benötigt man ein individuell
 es zum Teil schnelles Coaching. Hier bin ich Ihr Sparring-Partner und unte
 rstütze mit meiner Erfahrung aus über 10 Jahren als Führungskräfte - Coach
 . Kontaktieren Sie mich unverbindlich und kostenlos für ein erstes Gespräc
 h. \n \nKosten für ein online 60 Minuten-Coaching: CHF 300.00\n \n  https:
 //seminaragency.ch/termine/event/193-online-fuehrungscoachings-individuell
 e-termine-nach-absprache
DTSTART:20240330T000000Z
DTEND:20241102T101108Z
LOCATION:Zoom (Zuhause)
SUMMARY:online Führungscoachings / individuelle Termine nach Absprache
URL:https://seminaragency.ch/termine/event/193-online-fuehrungscoachings-in
 dividuelle-termine-nach-absprache
END:VEVENT
END:VCALENDAR
